BEGIN:VCALENDAR
VERSION:2.0
PRODID:-//Imperial RC Club - ECPv6.15.20//NONSGML v1.0//EN
CALSCALE:GREGORIAN
METHOD:PUBLISH
X-ORIGINAL-URL:https://imperialrcclub.com
X-WR-CALDESC:Events for Imperial RC Club
REFRESH-INTERVAL;VALUE=DURATION:PT1H
X-Robots-Tag:noindex
X-PUBLISHED-TTL:PT1H
BEGIN:VTIMEZONE
TZID:America/New_York
BEGIN:DAYLIGHT
TZOFFSETFROM:-0500
TZOFFSETTO:-0400
TZNAME:EDT
DTSTART:20250309T070000
END:DAYLIGHT
BEGIN:STANDARD
TZOFFSETFROM:-0400
TZOFFSETTO:-0500
TZNAME:EST
DTSTART:20251102T060000
END:STANDARD
BEGIN:DAYLIGHT
TZOFFSETFROM:-0500
TZOFFSETTO:-0400
TZNAME:EDT
DTSTART:20260308T070000
END:DAYLIGHT
BEGIN:STANDARD
TZOFFSETFROM:-0400
TZOFFSETTO:-0500
TZNAME:EST
DTSTART:20261101T060000
END:STANDARD
BEGIN:DAYLIGHT
TZOFFSETFROM:-0500
TZOFFSETTO:-0400
TZNAME:EDT
DTSTART:20270314T070000
END:DAYLIGHT
BEGIN:STANDARD
TZOFFSETFROM:-0400
TZOFFSETTO:-0500
TZNAME:EST
DTSTART:20271107T060000
END:STANDARD
END:VTIMEZONE
BEGIN:VEVENT
DTSTART;TZID=America/New_York:20260205T080000
DTEND;TZID=America/New_York:20260208T170000
DTSTAMP:20260422T203731
CREATED:20251122T155835Z
LAST-MODIFIED:20251122T171933Z
UID:14910-1770278400-1770570000@imperialrcclub.com
SUMMARY:8th Annual Florida eJets
DESCRIPTION:CD: Jerry McGhee – mcghee66@gmail.com \nCo-CD: Steve Jaworski – sajetguy@aol.com \nThrophies\, Raffle Prizes\, Food and Drink \nRegistration: $40/all 4 days; $20/day \nEDF ONLY! \nFacility: 26 acres cleared land\, 30 x 600 paved runway \nOn-site Camping: no facilities \nHotels: Several within 5-20 minutes from field
URL:https://imperialrcclub.com/event/2026-florida-ejets/
LOCATION:Imperial Radio Control Club\, 4286 FL-60\, Mulberry\, FL\, United States
CATEGORIES:Events
ORGANIZER;CN="Jerry McGhee":MAILTO:mcghee66@gmail.com
END:VEVENT
BEGIN:VEVENT
DTSTART;TZID=America/New_York:20260214T100000
DTEND;TZID=America/New_York:20260214T110000
DTSTAMP:20260422T203731
CREATED:20251122T172700Z
LAST-MODIFIED:20260201T172829Z
UID:14921-1771063200-1771066800@imperialrcclub.com
SUMMARY:IRCC February Monthly Meeting
DESCRIPTION:Join us at the field for our monthly meeting. Guests are welcome! Our meeting has been reschuled due to eJets Fly-in.
URL:https://imperialrcclub.com/event/ircc-february-monthly-meeting-2/
LOCATION:Imperial Radio Control Club\, 4286 FL-60\, Mulberry\, FL\, United States
CATEGORIES:Club Meeting
ATTACH;FMTTYPE=image/png:https://imperialrcclub.com/wp-content/uploads/2026/02/Feb2026.png
ORGANIZER;CN="Kevin Pazda":MAILTO:President@imperialrcclub.com
END:VEVENT
END:VCALENDAR