BEGIN:VCALENDAR
VERSION:2.0
PRODID:-//Imperial RC Club - ECPv6.15.20//NONSGML v1.0//EN
CALSCALE:GREGORIAN
METHOD:PUBLISH
X-WR-CALNAME:Imperial RC Club
X-ORIGINAL-URL:https://imperialrcclub.com
X-WR-CALDESC:Events for Imperial RC Club
REFRESH-INTERVAL;VALUE=DURATION:PT1H
X-Robots-Tag:noindex
X-PUBLISHED-TTL:PT1H
BEGIN:VTIMEZONE
TZID:America/New_York
BEGIN:DAYLIGHT
TZOFFSETFROM:-0500
TZOFFSETTO:-0400
TZNAME:EDT
DTSTART:20240310T070000
END:DAYLIGHT
BEGIN:STANDARD
TZOFFSETFROM:-0400
TZOFFSETTO:-0500
TZNAME:EST
DTSTART:20241103T060000
END:STANDARD
BEGIN:DAYLIGHT
TZOFFSETFROM:-0500
TZOFFSETTO:-0400
TZNAME:EDT
DTSTART:20250309T070000
END:DAYLIGHT
BEGIN:STANDARD
TZOFFSETFROM:-0400
TZOFFSETTO:-0500
TZNAME:EST
DTSTART:20251102T060000
END:STANDARD
BEGIN:DAYLIGHT
TZOFFSETFROM:-0500
TZOFFSETTO:-0400
TZNAME:EDT
DTSTART:20260308T070000
END:DAYLIGHT
BEGIN:STANDARD
TZOFFSETFROM:-0400
TZOFFSETTO:-0500
TZNAME:EST
DTSTART:20261101T060000
END:STANDARD
END:VTIMEZONE
BEGIN:VEVENT
DTSTART;TZID=America/New_York:20251206T100000
DTEND;TZID=America/New_York:20251206T110000
DTSTAMP:20260423T001058
CREATED:20251027T213229Z
LAST-MODIFIED:20251130T024118Z
UID:14756-1765015200-1765018800@imperialrcclub.com
SUMMARY:IRCC December Monthly Meeting
DESCRIPTION:Join us at the field for our monthly meeting. Guests are welcome! \nHello\, fellow IRCC members! \nDecember is fast approaching\, and along with that will be our last meeting of 2025 to be held on Saturday\, December 6th\, 2025.  Family day will start at 11:00 am after the regular 10:00 am meeting. \nThis will include our annual Toys for Tots toy collection drive\, our “End of the Year” Celebration & Pot Luck Luncheon.   Please bring a Toy for the donation box! \nAs in years past\, the club will provide the main entree (brown sugar-glazed ham) & cold drinks. \nThe Potluck comes from whatever side dishes you would like to bring.  Whether a quick pick-up from the supermarket or a favorite time- honored “family” recipe\, everything will be welcomed. \nThere will be a signup sheet (copy attached) posted at the field\, or you can simply respond directly to me at raff7113@msn.com\, and I will add your information to the list.  Please include how many adults\, how many children\, and what dish you will be bringing so we can be sure to have enough refreshments for everyone. \nBest regards\, \nDavid A. Raff \n********************************** SEND ALL REPLIES TO DAVID RAFF raff7113@msn.com ***************************** \nAdmission: One (1) donated toy or $10 \nSample Sign-up sheet
URL:https://imperialrcclub.com/event/irrc-december-monthly-meeting/
LOCATION:Imperial Radio Control Club\, 4286 FL-60\, Mulberry\, FL\, United States
CATEGORIES:Club Meeting,Events
ATTACH;FMTTYPE=image/png:https://imperialrcclub.com/wp-content/uploads/2025/11/dec626mtg.png
ORGANIZER;CN="Kevin Pazda":MAILTO:President@imperialrcclub.com
END:VEVENT
END:VCALENDAR