BEGIN:VCALENDAR
VERSION:2.0
PRODID:-//Imperial RC Club - ECPv6.15.20//NONSGML v1.0//EN
CALSCALE:GREGORIAN
METHOD:PUBLISH
X-WR-CALNAME:Imperial RC Club
X-ORIGINAL-URL:https://imperialrcclub.com
X-WR-CALDESC:Events for Imperial RC Club
REFRESH-INTERVAL;VALUE=DURATION:PT1H
X-Robots-Tag:noindex
X-PUBLISHED-TTL:PT1H
BEGIN:VTIMEZONE
TZID:America/New_York
BEGIN:DAYLIGHT
TZOFFSETFROM:-0500
TZOFFSETTO:-0400
TZNAME:EDT
DTSTART:20240310T070000
END:DAYLIGHT
BEGIN:STANDARD
TZOFFSETFROM:-0400
TZOFFSETTO:-0500
TZNAME:EST
DTSTART:20241103T060000
END:STANDARD
BEGIN:DAYLIGHT
TZOFFSETFROM:-0500
TZOFFSETTO:-0400
TZNAME:EDT
DTSTART:20250309T070000
END:DAYLIGHT
BEGIN:STANDARD
TZOFFSETFROM:-0400
TZOFFSETTO:-0500
TZNAME:EST
DTSTART:20251102T060000
END:STANDARD
BEGIN:DAYLIGHT
TZOFFSETFROM:-0500
TZOFFSETTO:-0400
TZNAME:EDT
DTSTART:20260308T070000
END:DAYLIGHT
BEGIN:STANDARD
TZOFFSETFROM:-0400
TZOFFSETTO:-0500
TZNAME:EST
DTSTART:20261101T060000
END:STANDARD
END:VTIMEZONE
BEGIN:VEVENT
DTSTART;TZID=America/New_York:20250104T100000
DTEND;TZID=America/New_York:20250104T110000
DTSTAMP:20260420T020619
CREATED:20241104T200159Z
LAST-MODIFIED:20251122T172129Z
UID:12073-1735984800-1735988400@imperialrcclub.com
SUMMARY:IRCC January Monthly Club Meeting
DESCRIPTION:Welcome visitors! See you at the field!
URL:https://imperialrcclub.com/event/ircc-january-monthly-club-meeting/
LOCATION:Imperial Radio Control Club\, 4286 FL-60\, Mulberry\, FL\, United States
CATEGORIES:Club Meeting
ATTACH;FMTTYPE=image/png:https://imperialrcclub.com/wp-content/uploads/2024/12/Sat0j0425Mtg.png
ORGANIZER;CN="Kevin Pazda":MAILTO:President@imperialrcclub.com
END:VEVENT
BEGIN:VEVENT
DTSTART;TZID=America/New_York:20250125T100000
DTEND;TZID=America/New_York:20250125T110000
DTSTAMP:20260420T020619
CREATED:20241104T200525Z
LAST-MODIFIED:20250119T011124Z
UID:12075-1737799200-1737802800@imperialrcclub.com
SUMMARY:IRCC Feburary Monthly Meeting
DESCRIPTION:Welcome Visiters! Due to the Automobiles\, Planes\, and Trains event being held in the first weekend of Feburary\, our montly meeting has been moved up by a week. See you at the field!.
URL:https://imperialrcclub.com/event/ircc-feburary-monthly-meeting/
LOCATION:Imperial Radio Control Club\, 4286 FL-60\, Mulberry\, FL\, United States
CATEGORIES:Club Meeting
ATTACH;FMTTYPE=image/png:https://imperialrcclub.com/wp-content/uploads/2025/01/Jan2025Mtg.png
ORGANIZER;CN="Kevin Pazda":MAILTO:President@imperialrcclub.com
END:VEVENT
END:VCALENDAR