BEGIN:VCALENDAR
VERSION:2.0
PRODID:-//Imperial RC Club - ECPv6.15.20//NONSGML v1.0//EN
CALSCALE:GREGORIAN
METHOD:PUBLISH
X-WR-CALNAME:Imperial RC Club
X-ORIGINAL-URL:https://imperialrcclub.com
X-WR-CALDESC:Events for Imperial RC Club
REFRESH-INTERVAL;VALUE=DURATION:PT1H
X-Robots-Tag:noindex
X-PUBLISHED-TTL:PT1H
BEGIN:VTIMEZONE
TZID:America/New_York
BEGIN:DAYLIGHT
TZOFFSETFROM:-0500
TZOFFSETTO:-0400
TZNAME:EDT
DTSTART:20230312T070000
END:DAYLIGHT
BEGIN:STANDARD
TZOFFSETFROM:-0400
TZOFFSETTO:-0500
TZNAME:EST
DTSTART:20231105T060000
END:STANDARD
BEGIN:DAYLIGHT
TZOFFSETFROM:-0500
TZOFFSETTO:-0400
TZNAME:EDT
DTSTART:20240310T070000
END:DAYLIGHT
BEGIN:STANDARD
TZOFFSETFROM:-0400
TZOFFSETTO:-0500
TZNAME:EST
DTSTART:20241103T060000
END:STANDARD
BEGIN:DAYLIGHT
TZOFFSETFROM:-0500
TZOFFSETTO:-0400
TZNAME:EDT
DTSTART:20250309T070000
END:DAYLIGHT
BEGIN:STANDARD
TZOFFSETFROM:-0400
TZOFFSETTO:-0500
TZNAME:EST
DTSTART:20251102T060000
END:STANDARD
END:VTIMEZONE
BEGIN:VEVENT
DTSTART;TZID=America/New_York:20241207T100000
DTEND;TZID=America/New_York:20241207T110000
DTSTAMP:20260420T041104
CREATED:20240612T183158Z
LAST-MODIFIED:20241128T185805Z
UID:11888-1733565600-1733569200@imperialrcclub.com
SUMMARY:IRCC December Monthly Meeting
DESCRIPTION:This is a combined event: a Family Day\, Fun Fly-in Day\, Toy for Tots collection\, a Swap Meet and\, our Monthly meeting\, We will have food and drinks by way of a “Pot Luck” lunch. Bring your own table and chairs! Visitors are welcome! $10 landing fee or an unwrapped gift for a boy or girl. See you at the field!\n\nBest to All!
URL:https://imperialrcclub.com/event/december-ircc-monthly-meeting/
LOCATION:Imperial Radio Control Club\, 4286 FL-60\, Mulberry\, FL\, United States
CATEGORIES:Club Meeting,Events,Holiday
ATTACH;FMTTYPE=image/png:https://imperialrcclub.com/wp-content/uploads/2024/11/1224Mtg.png
ORGANIZER;CN="David Raff":MAILTO:raff7113@msn.com
END:VEVENT
END:VCALENDAR