BEGIN:VCALENDAR
VERSION:2.0
PRODID:-//Imperial RC Club - ECPv6.15.20//NONSGML v1.0//EN
CALSCALE:GREGORIAN
METHOD:PUBLISH
X-WR-CALNAME:Imperial RC Club
X-ORIGINAL-URL:https://imperialrcclub.com
X-WR-CALDESC:Events for Imperial RC Club
REFRESH-INTERVAL;VALUE=DURATION:PT1H
X-Robots-Tag:noindex
X-PUBLISHED-TTL:PT1H
BEGIN:VTIMEZONE
TZID:America/New_York
BEGIN:DAYLIGHT
TZOFFSETFROM:-0500
TZOFFSETTO:-0400
TZNAME:EDT
DTSTART:20230312T070000
END:DAYLIGHT
BEGIN:STANDARD
TZOFFSETFROM:-0400
TZOFFSETTO:-0500
TZNAME:EST
DTSTART:20231105T060000
END:STANDARD
BEGIN:DAYLIGHT
TZOFFSETFROM:-0500
TZOFFSETTO:-0400
TZNAME:EDT
DTSTART:20240310T070000
END:DAYLIGHT
BEGIN:STANDARD
TZOFFSETFROM:-0400
TZOFFSETTO:-0500
TZNAME:EST
DTSTART:20241103T060000
END:STANDARD
BEGIN:DAYLIGHT
TZOFFSETFROM:-0500
TZOFFSETTO:-0400
TZNAME:EDT
DTSTART:20250309T070000
END:DAYLIGHT
BEGIN:STANDARD
TZOFFSETFROM:-0400
TZOFFSETTO:-0500
TZNAME:EST
DTSTART:20251102T060000
END:STANDARD
END:VTIMEZONE
BEGIN:VEVENT
DTSTART;TZID=America/New_York:20240907T100000
DTEND;TZID=America/New_York:20240907T110000
DTSTAMP:20260420T091349
CREATED:20240524T155319Z
LAST-MODIFIED:20240830T230928Z
UID:11872-1725703200-1725706800@imperialrcclub.com
SUMMARY:IRCC September Monthly Meeting
DESCRIPTION:Visitors are welcome! See you at the field!\n\nBest to All!
URL:https://imperialrcclub.com/event/ircc-september-monthly-meeting-2/
LOCATION:Imperial Radio Control Club\, 4286 FL-60\, Mulberry\, FL\, United States
CATEGORIES:Club Meeting
ATTACH;FMTTYPE=image/png:https://imperialrcclub.com/wp-content/uploads/2024/08/0924.png
ORGANIZER;CN="Kevin Pazda":MAILTO:President@imperialrcclub.com
END:VEVENT
END:VCALENDAR